BEGIN:VCALENDAR
VERSION:2.0
PRODID:-//Gregorian//NONSGML Gregorian//EN
METHOD:PUBLISH
BEGIN:VEVENT
UID:20260423T085825Z-1212991132-www.gregorian.de
URL:https://www.gregorian.de/dates/gregorian-dates-03-dec-2025-de-baden-11--618-.html
DTSTAMP:20260423T085825Z
DTSTART:20251203T180000Z
DTEND:20251203T180000Z
SUMMARY:GREGORIAN | Dates | 03 Dec 2025 (DE) Baden-Baden\, Festspielhaus
DESCRIPTION:For tickets and more Gregorian-dates check https://www.gregorian.de/dates/
LOCATION:Festspielhaus\, Baden-Baden\, Germany
END:VEVENT
END:VCALENDAR
