BEGIN:VCALENDAR
VERSION:2.0
PRODID:-//Gregorian//NONSGML Gregorian//EN
METHOD:PUBLISH
BEGIN:VEVENT
UID:20260423T090435Z-728317702-www.gregorian.de
URL:https://www.gregorian.de/dates/gregorian-dates-30-nov-2025-de-olden-11--616-.html
DTSTAMP:20260423T090435Z
DTSTART:20251130T180000Z
DTEND:20251130T180000Z
SUMMARY:GREGORIAN | Dates | 30 Nov 2025 (DE) Oldenburg\, Weser-Ems-Hallen
DESCRIPTION:For tickets and more Gregorian-dates check https://www.gregorian.de/dates/
LOCATION:Weser-Ems-Hallen\, Oldenburg\, Germany
END:VEVENT
END:VCALENDAR
