BEGIN:VCALENDAR
VERSION:2.0
PRODID:-//Gregorian//NONSGML Gregorian//EN
METHOD:PUBLISH
BEGIN:VEVENT
UID:20260424T085940Z-198106069-www.gregorian.de
URL:https://www.gregorian.de/dates/gregorian-dates-14-feb-2025-lt-iauli-11--512-.html
DTSTAMP:20260424T085940Z
DTSTART:20250214T160000Z
DTEND:20250214T160000Z
SUMMARY:GREGORIAN | Dates | 14 Feb 2025 (LT) Šiauliai\, Šiaulių Arena
DESCRIPTION:For tickets and more Gregorian-dates check https://www.gregorian.de/dates/
LOCATION:Šiaulių Arena\, Šiauliai\, Lithuania
END:VEVENT
END:VCALENDAR
