BEGIN:VCALENDAR
VERSION:2.0
PRODID:-//Gregorian//NONSGML Gregorian//EN
METHOD:PUBLISH
BEGIN:VEVENT
UID:20260423T102352Z-415465859-www.gregorian.de
URL:https://www.gregorian.de/dates/gregorian-dates-04-feb-2025-fi-helsi-11--504-.html
DTSTAMP:20260423T102352Z
DTSTART:20250204T200000Z
DTEND:20250204T200000Z
SUMMARY:GREGORIAN | Dates | 04 Feb 2025 (FI) Helsinki\, Finlandia Hall
DESCRIPTION:For tickets and more Gregorian-dates check https://www.gregorian.de/dates/
LOCATION:Finlandia Hall\, Helsinki\, Finland
END:VEVENT
END:VCALENDAR
