BEGIN:VCALENDAR
VERSION:2.0
PRODID:-//Gregorian//NONSGML Gregorian//EN
METHOD:PUBLISH
BEGIN:VEVENT
UID:20260424T042303Z-1766117599-www.gregorian.de
URL:https://www.gregorian.de/dates/gregorian-dates-10-apr-2025-de-kiel--11--499-.html
DTSTAMP:20260424T042303Z
DTSTART:20250410T200000Z
DTEND:20250410T200000Z
SUMMARY:GREGORIAN | Dates | 10 Apr 2025 (DE) Kiel\, Wunderino Arena
DESCRIPTION:For tickets and more Gregorian-dates check https://www.gregorian.de/dates/
LOCATION:Wunderino Arena\, Kiel\, Germany
END:VEVENT
END:VCALENDAR
