BEGIN:VCALENDAR
VERSION:2.0
PRODID:-//Gregorian//NONSGML Gregorian//EN
METHOD:PUBLISH
BEGIN:VEVENT
UID:20260422T052727Z-2145958586-www.gregorian.de
URL:https://www.gregorian.de/dates/gregorian-dates-27-jan-2024-dk-vejle-8--461-.html
DTSTAMP:20260422T052727Z
DTSTART:20240127T200000Z
DTEND:20240127T200000Z
SUMMARY:GREGORIAN | Dates | 27 Jan 2024 (DK) Vejle\, Musikteater
DESCRIPTION:For tickets and more Gregorian-dates check https://www.gregorian.de/dates/
LOCATION:Musikteater\, Vejle\, Denmark
END:VEVENT
END:VCALENDAR
