BEGIN:VCALENDAR
VERSION:2.0
PRODID:-//Gregorian//NONSGML Gregorian//EN
METHOD:PUBLISH
BEGIN:VEVENT
UID:20260423T152754Z-1258283019-www.gregorian.de
URL:https://www.gregorian.de/dates/gregorian-dates-24-nov-2023-fi-oulu--8--459-.html
DTSTAMP:20260423T152754Z
DTSTART:20231124T190000Z
DTEND:20231124T190000Z
SUMMARY:GREGORIAN | Dates | 24 Nov 2023 (FI) Oulu\, Oulun Musiikkikeskus
DESCRIPTION:For tickets and more Gregorian-dates check https://www.gregorian.de/dates/
LOCATION:Oulun Musiikkikeskus\, Oulu\, Finland
END:VEVENT
END:VCALENDAR
