BEGIN:VCALENDAR
VERSION:2.0
PRODID:-//Gregorian//NONSGML Gregorian//EN
METHOD:PUBLISH
BEGIN:VEVENT
UID:20260423T085544Z-739987950-www.gregorian.de
URL:https://www.gregorian.de/dates/gregorian-dates-02-dec-2023-lv-riga--8--441-.html
DTSTAMP:20260423T085544Z
DTSTART:20231202T190000Z
DTEND:20231202T190000Z
SUMMARY:GREGORIAN | Dates | 02 Dec 2023 (LV) Riga\, Arena Riga
DESCRIPTION:For tickets and more Gregorian-dates check https://www.gregorian.de/dates/
LOCATION:Arena Riga\, Riga\, Latvia
END:VEVENT
END:VCALENDAR
