BEGIN:VCALENDAR
VERSION:2.0
PRODID:-//Gregorian//NONSGML Gregorian//EN
METHOD:PUBLISH
BEGIN:VEVENT
UID:20260422T082947Z-315600566-www.gregorian.de
URL:https://www.gregorian.de/dates/gregorian-dates-07-jun-2023-us-kuond-10--425-.html
DTSTAMP:20260422T082947Z
DTSTART:20230607T100000Z
DTEND:20230607T100000Z
SUMMARY:GREGORIAN | Dates | 07 Jun 2023 (US) KUONDT3 Lincoln-Hastings\, NE\, 10:00 am
DESCRIPTION:For tickets and more Gregorian-dates check https://www.gregorian.de/dates/
LOCATION:10:00 am\, KUONDT3 Lincoln-Hastings\, NE\, United States
END:VEVENT
END:VCALENDAR
