BEGIN:VCALENDAR
VERSION:2.0
PRODID:-//Gregorian//NONSGML Gregorian//EN
METHOD:PUBLISH
BEGIN:VEVENT
UID:20260422T100145Z-983047915-www.gregorian.de
URL:https://www.gregorian.de/dates/gregorian-dates-11-feb-2022-cz-pragu-9--259-.html
DTSTAMP:20260422T100145Z
DTSTART:20220211T190000Z
DTEND:20220211T190000Z
SUMMARY:GREGORIAN | Dates | 11 Feb 2022 (CZ) Prague\, !!!CANCELLED!!!
DESCRIPTION:For tickets and more Gregorian-dates check https://www.gregorian.de/dates/
LOCATION:!!!CANCELLED!!!\, Prague\, Czech Republic
END:VEVENT
END:VCALENDAR
